BEGIN:VCALENDAR
VERSION:2.0
PRODID:-//Δήμος Αγίου Νικολάου - ECPv6.15.18//NONSGML v1.0//EN
CALSCALE:GREGORIAN
METHOD:PUBLISH
X-WR-CALNAME:Δήμος Αγίου Νικολάου
X-ORIGINAL-URL:https://www.agiosnikolaos.gr
X-WR-CALDESC:Events for Δήμος Αγίου Νικολάου
REFRESH-INTERVAL;VALUE=DURATION:PT1H
X-Robots-Tag:noindex
X-PUBLISHED-TTL:PT1H
BEGIN:VTIMEZONE
TZID:Europe/Athens
BEGIN:DAYLIGHT
TZOFFSETFROM:+0200
TZOFFSETTO:+0300
TZNAME:EEST
DTSTART:20250330T010000
END:DAYLIGHT
BEGIN:STANDARD
TZOFFSETFROM:+0300
TZOFFSETTO:+0200
TZNAME:EET
DTSTART:20251026T010000
END:STANDARD
BEGIN:DAYLIGHT
TZOFFSETFROM:+0200
TZOFFSETTO:+0300
TZNAME:EEST
DTSTART:20260329T010000
END:DAYLIGHT
BEGIN:STANDARD
TZOFFSETFROM:+0300
TZOFFSETTO:+0200
TZNAME:EET
DTSTART:20261025T010000
END:STANDARD
BEGIN:DAYLIGHT
TZOFFSETFROM:+0200
TZOFFSETTO:+0300
TZNAME:EEST
DTSTART:20270328T010000
END:DAYLIGHT
BEGIN:STANDARD
TZOFFSETFROM:+0300
TZOFFSETTO:+0200
TZNAME:EET
DTSTART:20271031T010000
END:STANDARD
END:VTIMEZONE
BEGIN:VEVENT
DTSTART;TZID=Europe/Athens:20260418T180000
DTEND;TZID=Europe/Athens:20260422T180000
DTSTAMP:20260423T130746
CREATED:20260417T063909Z
LAST-MODIFIED:20260417T064448Z
UID:38343-1776535200-1776880800@www.agiosnikolaos.gr
SUMMARY:Super Mario Galaxy: Η Ταινία - Κινηματοθέατρο «REX»
DESCRIPTION:Ο Μάριο και ο Λουίτζι μαζί με την πριγκίπισσα Πιτς ξεκινούν μια περιπέτεια στα πέρατα του διαστήματος και σε όλο τον γαλαξία. Εκεί θα γνωρίσουν την πριγκίπισσα Ροζαλίνα και θα έρθουν αντιμέτωποι με τον βασιλιά Μπάουζερ και τον γιο του. \nΚλείστε εύκολα #online τα εισιτήρια σας εδώ: https://www.ticketbox.gr/ekdilosi/super-mario-galaxy-the-movie-rex/ \nΚατάλληλο για όλους \nΓενική Είσοδος: 5€ \nΏρα: 18:00
URL:https://www.agiosnikolaos.gr/event/super-mario-galaxy-i-tainia-kinimatotheatro-rex/
LOCATION:Κινηματοθέατρο REX\, Λασθένους και Σφακιανάκη\, Αγιος Νικόλαος\, Λασιθίου\, 72150\, Ελλάδα
CATEGORIES:Κινηματογραφικό
ATTACH;FMTTYPE=image/jpeg:https://www.agiosnikolaos.gr/wp-content/uploads/2026/04/1-2-7.jpg
ORGANIZER;CN="%CE%94%CE%AE%CE%BC%CE%BF%CF%82 %CE%91%CE%B3%CE%AF%CE%BF%CF%85 %CE%9D%CE%B9%CE%BA%CE%BF%CE%BB%CE%AC%CE%BF%CF%85":MAILTO:info@agiosnikolaos.gr
END:VEVENT
BEGIN:VEVENT
DTSTART;TZID=Europe/Athens:20260418T210000
DTEND;TZID=Europe/Athens:20260422T210000
DTSTAMP:20260423T130746
CREATED:20260417T064255Z
LAST-MODIFIED:20260417T064507Z
UID:38345-1776546000-1776891600@www.agiosnikolaos.gr
SUMMARY:Το Μυστικό Του Δάσους - Κινηματοθέατρο «REX»
DESCRIPTION:Σε ένα νησί\, η μυστηριώδης εξαφάνιση μιας οικογένειας τουριστών διαταράσσει τη φαινομενικά ήρεμη ζωή της τοπικής κοινωνίας. Ο αστυνόμος Αντώνης\, παρά τις επίμονες προσπάθειές του\, οδηγείται σε αδιέξοδο. Τα στοιχεία είναι ελάχιστα και τα στόματα παραμένουν κλειστά. Απελπισμένος\, στρέφεται στον παιδικό του φίλο Κώστα -έναν πρώην αστυνομικό που έχει αποσυρθεί μετά από μια αποτυχημένη επιχείρηση εξάρθρωσης διεθνούς σπείρας σωματεμπορίας\, η οποία κόστισε τη ζωή της οικογένειάς του. Συντετριμμένος από ενοχές\, ο Κώστας έχει αποκοπεί από όλους\, αρνούμενος να επιστρέψει στη δράση. Όμως\, όταν βλέπει τη φωτογραφία της εξαφανισμένης μικρής κόρης και διαπιστώνει την απίστευτη ομοιότητά της με τη δική του χαμένη κόρη\, κάτι αλλάζει μέσα του. Η υπόθεση παύει να είναι απλώς μια αστυνομική έρευνα – γίνεται προσωπική υπόθεση. \nΚατάλληλο για άνω των 18 ετών \nΚλείστε εύκολα #online τα εισιτήρια σας εδώ: https://www.ticketbox.gr/ekdilosi/to-mystiko-tou-dasous-rex/ \nΓενική Είσοδος: 5€ \nΏρα: 21:00
URL:https://www.agiosnikolaos.gr/event/to-mystiko-tou-dasous-kinimatotheatro-rex/
LOCATION:Κινηματοθέατρο REX\, Λασθένους και Σφακιανάκη\, Αγιος Νικόλαος\, Λασιθίου\, 72150\, Ελλάδα
CATEGORIES:Κινηματογραφικό
ATTACH;FMTTYPE=image/jpeg:https://www.agiosnikolaos.gr/wp-content/uploads/2026/04/1-1-8.jpg
ORGANIZER;CN="%CE%94%CE%AE%CE%BC%CE%BF%CF%82 %CE%91%CE%B3%CE%AF%CE%BF%CF%85 %CE%9D%CE%B9%CE%BA%CE%BF%CE%BB%CE%AC%CE%BF%CF%85":MAILTO:info@agiosnikolaos.gr
END:VEVENT
BEGIN:VEVENT
DTSTART;TZID=Europe/Athens:20260423T210000
DTEND;TZID=Europe/Athens:20260429T210000
DTSTAMP:20260423T130746
CREATED:20260422T051708Z
LAST-MODIFIED:20260422T051716Z
UID:38450-1776978000-1777496400@www.agiosnikolaos.gr
SUMMARY:I Was a Stranger - Κινηματοθέατρο «REX»
DESCRIPTION:Όταν μια σύρια γιατρός αναγκάζεται να εγκαταλείψει το Χαλέπι μαζί με τη μικρή της κόρη\, μια απελπισμένη επιλογή πυροδοτεί μια αλυσίδα γεγονότων που ξεπερνά σύνορα και παρασύρει τέσσερις αγνώστους στην ίδια καταιγίδα. Ένας διακινητής που προσπαθεί να σώσει τον γιο του. Ένας στρατιώτης που παλεύει με τη συνείδησή του. Ένας ποιητής που αναζητά μία πατρίδα. Ένας Έλληνας κυβερνήτης του λιμενικού\, διχασμένος ανάμεσα στο καθήκον και την ανθρωπιά. Οι πορείες τους συγκρούονται μέσα σε μια νύχτα στη Μεσόγειο\, εκεί όπου η επιβίωση είναι αβέβαιη και η ανθρωπιά αποκαλύπτεται στην πιο ωμή της μορφή. \nΗμέρες και ώρες προβολής : \nΠέμπτη 23/04  (18:30) \nΚυριακή 26/04 (21:00) \nΔευτέρα 27/04 (21:00) \nΤρίτη 28/04  (21:00) \nΤετάρτη 29/04  (18:30) \nΚατάλληλο για άνω των 13 ετών \nΓενική είσοδος 5€ \nΚλείστε εύκολα #online τα εισιτήρια σας εδώ: https://www.ticketbox.gr/ekdilosi/i-was-a-stranger-rex-5/
URL:https://www.agiosnikolaos.gr/event/i-was-a-stranger-kinimatotheatro-rex/
LOCATION:Κινηματοθέατρο REX\, Λασθένους και Σφακιανάκη\, Αγιος Νικόλαος\, Λασιθίου\, 72150\, Ελλάδα
CATEGORIES:Κινηματογραφικό
ATTACH;FMTTYPE=image/jpeg:https://www.agiosnikolaos.gr/wp-content/uploads/2026/04/672165383_2028583481869063_3253951372779410904_n.jpg
ORGANIZER;CN="%CE%94%CE%AE%CE%BC%CE%BF%CF%82 %CE%91%CE%B3%CE%AF%CE%BF%CF%85 %CE%9D%CE%B9%CE%BA%CE%BF%CE%BB%CE%AC%CE%BF%CF%85":MAILTO:info@agiosnikolaos.gr
END:VEVENT
BEGIN:VEVENT
DTSTART;TZID=Europe/Athens:20260423T210000
DTEND;TZID=Europe/Athens:20260429T210000
DTSTAMP:20260423T130746
CREATED:20260422T050741Z
LAST-MODIFIED:20260422T050741Z
UID:38448-1776978000-1777496400@www.agiosnikolaos.gr
SUMMARY:Δυστυχώς Βρίζω - Κινηματοθέατρο «REX»
DESCRIPTION:Διαγνωσμένος με σύνδρομο Τουρέτ\, μια νευρολογική διαταραχή η οποία κάνει το σώμα να φέρεται ανεξέλεγκτα\, ο Τζον Ντέιβιντσον μεγαλώνει σε μια Βρετανία της δεκαετίας του 1980 που αδυνατεί να τον κατανοήσει. Αντιμέτωπος με παρεξηγήσεις\, κοινωνικά στερεότυπα και προσωπικούς αγώνες\, παλεύει να βρει τη φωνή και την ταυτότητά του. \nΗμέρες προβολής : \nΠέμπτη 23/04 \nΠαρασκευή 24/04 \nΣάββατο 25/04 \nΤετάρτη 29/04 \nΚατάλληλο για άνω των 15 ετών \nΓενική είσοδος 5€ \nΏρα : 21:00 \nΚλείστε εύκολα #online τα εισιτήρια σας εδώ: https://www.ticketbox.gr/ekdilosi/i-swear-rex-2/
URL:https://www.agiosnikolaos.gr/event/dystychos-vrizo-kinimatotheatro-rex/
LOCATION:Κινηματοθέατρο REX\, Λασθένους και Σφακιανάκη\, Αγιος Νικόλαος\, Λασιθίου\, 72150\, Ελλάδα
CATEGORIES:Κινηματογραφικό
ATTACH;FMTTYPE=image/jpeg:https://www.agiosnikolaos.gr/wp-content/uploads/2026/04/672711148_944951958559909_1072079694849634926_n-1.jpg
ORGANIZER;CN="%CE%94%CE%AE%CE%BC%CE%BF%CF%82 %CE%91%CE%B3%CE%AF%CE%BF%CF%85 %CE%9D%CE%B9%CE%BA%CE%BF%CE%BB%CE%AC%CE%BF%CF%85":MAILTO:info@agiosnikolaos.gr
END:VEVENT
BEGIN:VEVENT
DTSTART;TZID=Europe/Athens:20260424T180000
DTEND;TZID=Europe/Athens:20260424T180000
DTSTAMP:20260423T130746
CREATED:20260422T051912Z
LAST-MODIFIED:20260422T051912Z
UID:38453-1777053600-1777053600@www.agiosnikolaos.gr
SUMMARY:Οικογένεια Ντινοσάουρους - Κινηματοθέατρο «ΔΡΗΡΟΣ»
DESCRIPTION:Τι συμβαίνει όταν ο έφηβος Φιλ\, στην προσπάθειά του να εντυπωσιάσει τη συμμαθήτριά του\, στέλνει κατά λάθος όλη την παρέα… στην εποχή των δεινοσαύρων; Παγιδευμένοι σε μια ζούγκλα γεμάτη προϊστορικούς κινδύνους\, ο Φιλ και ο παλαιοντολόγος πατέρας του πρέπει να ενώσουν τις δυνάμεις τους με τον χαμένο στον χρόνο παππού της οικογένειας για να επιβιώσουν! Με σύμμαχο έναν βίγκαν βελοσιράπτορα και εχθρό τον μοχθηρό Τιτανοβόα\, η οικογένεια Ντινοσάουρους ξεκινά μια εκρηκτική περιπέτεια. \nΚατάλληλο για όλους \nΓενική Είσοδος: 5€ \nΏρα : 18:00 \nΚλείστε εύκολα #online τα εισιτήρια σας εδώ: https://www.ticketbox.gr/ekdilosi/the-dino-family-driros-2/
URL:https://www.agiosnikolaos.gr/event/oikogeneia-ntinosaourous-kinimatotheatro-driros/
LOCATION:Κινηματοθέατρο Δρήρος\, Αναπήρων Πολέμου 2\, Νεάπολη\, Λασιθίου\, 72400\, Greece
CATEGORIES:Κινηματογραφικό
ATTACH;FMTTYPE=image/jpeg:https://www.agiosnikolaos.gr/wp-content/uploads/2026/04/674374917_1888770421841577_8968165411738123093_n.jpg
ORGANIZER;CN="%CE%94%CE%AE%CE%BC%CE%BF%CF%82 %CE%91%CE%B3%CE%AF%CE%BF%CF%85 %CE%9D%CE%B9%CE%BA%CE%BF%CE%BB%CE%AC%CE%BF%CF%85":MAILTO:info@agiosnikolaos.gr
END:VEVENT
BEGIN:VEVENT
DTSTART;TZID=Europe/Athens:20260424T180000
DTEND;TZID=Europe/Athens:20260424T180000
DTSTAMP:20260423T130746
CREATED:20260422T050506Z
LAST-MODIFIED:20260422T050511Z
UID:38445-1777053600-1777053600@www.agiosnikolaos.gr
SUMMARY:Οικογένεια Ντινοσάουρους - Κινηματοθέατρο REX
DESCRIPTION:Τι συμβαίνει όταν ο έφηβος Φιλ\, στην προσπάθειά του να εντυπωσιάσει τη συμμαθήτριά του\, στέλνει κατά λάθος όλη την παρέα… στην εποχή των δεινοσαύρων; Παγιδευμένοι σε μια ζούγκλα γεμάτη προϊστορικούς κινδύνους\, ο Φιλ και ο παλαιοντολόγος πατέρας του πρέπει να ενώσουν τις δυνάμεις τους με τον χαμένο στον χρόνο παππού της οικογένειας για να επιβιώσουν! Με σύμμαχο έναν βίγκαν βελοσιράπτορα και εχθρό τον μοχθηρό Τιτανοβόα\, η οικογένεια Ντινοσάουρους ξεκινά μια εκρηκτική περιπέτεια. \nΗμέρες προβολής  \nΠαρασκευή 24/04 \nΚυριακή 26/04 \nΤρίτη 28/04 \nΚατάλληλο για όλους \nΓενική Είσοδος: 5€ \nΏρα : 18:00 \nΚλείστε εύκολα #online τα εισιτήρια σας εδώ: https://www.ticketbox.gr/ekdilosi/the-dino-family-rex-2/
URL:https://www.agiosnikolaos.gr/event/oikogeneia-ntinosaourous-kinimatotheatro-rex/
LOCATION:Κινηματοθέατρο REX\, Λασθένους και Σφακιανάκη\, Αγιος Νικόλαος\, Λασιθίου\, 72150\, Ελλάδα
CATEGORIES:Κινηματογραφικό
ATTACH;FMTTYPE=image/jpeg:https://www.agiosnikolaos.gr/wp-content/uploads/2026/04/672624708_1004811539392147_6965842394761121308_n.jpg
ORGANIZER;CN="%CE%94%CE%AE%CE%BC%CE%BF%CF%82 %CE%91%CE%B3%CE%AF%CE%BF%CF%85 %CE%9D%CE%B9%CE%BA%CE%BF%CE%BB%CE%AC%CE%BF%CF%85":MAILTO:info@agiosnikolaos.gr
END:VEVENT
BEGIN:VEVENT
DTSTART;TZID=Europe/Athens:20260424T203000
DTEND;TZID=Europe/Athens:20260426T203000
DTSTAMP:20260423T130746
CREATED:20260422T052044Z
LAST-MODIFIED:20260422T052044Z
UID:38455-1777062600-1777235400@www.agiosnikolaos.gr
SUMMARY:Solo Mio - Κινηματοθέατρο «ΔΡΗΡΟΣ»
DESCRIPTION:Ο Ματ αποταμίευε χρήματα για χρόνια για να πραγματοποιήσει τον γάμο των ονείρων της αγαπημένης του στην Ιταλία\, και να σχεδιάσει ένα πολυτελές ταξίδι του μέλιτος. Όταν η αρραβωνιαστικιά του δεν εμφανίζεται στην εκκλησία\, ο Ματ αναγκάζεται να πάει μόνος του στο ταξίδι του μέλιτος\, κάτι που τον φέρνει σε επαφή με την όμορφη κουλτούρα της Ιταλίας και ανανεώνει το πάθος του για τη ζωή. Στην πορεία\, γνωρίζει την Τζία\, μια Ιταλίδα που τον βοηθά να ξαναβρεί την πίστη του στην πιθανότητα της αγάπης και της αληθινής ευτυχίας. \nΚατάλληλο για άνω των 12 ετών \nΓενική είσοδος : 5€ \nΏρα : 20:30 \nΚλείστε εύκολα #online τα εισιτήρια σας εδώ: https://www.ticketbox.gr/ekdilosi/solo-mio-driros-2/
URL:https://www.agiosnikolaos.gr/event/solo-mio-kinimatotheatro-driros/
LOCATION:Κινηματοθέατρο Δρήρος\, Αναπήρων Πολέμου 2\, Νεάπολη\, Λασιθίου\, 72400\, Greece
CATEGORIES:Κινηματογραφικό
ATTACH;FMTTYPE=image/jpeg:https://www.agiosnikolaos.gr/wp-content/uploads/2026/04/673322234_945378501407568_6319497650033277656_n.jpg
ORGANIZER;CN="%CE%94%CE%AE%CE%BC%CE%BF%CF%82 %CE%91%CE%B3%CE%AF%CE%BF%CF%85 %CE%9D%CE%B9%CE%BA%CE%BF%CE%BB%CE%AC%CE%BF%CF%85":MAILTO:info@agiosnikolaos.gr
END:VEVENT
END:VCALENDAR