BEGIN:VCALENDAR
VERSION:2.0
PRODID:-//Δήμος Αγίου Νικολάου - ECPv6.15.18//NONSGML v1.0//EN
CALSCALE:GREGORIAN
METHOD:PUBLISH
X-ORIGINAL-URL:https://www.agiosnikolaos.gr
X-WR-CALDESC:Events for Δήμος Αγίου Νικολάου
REFRESH-INTERVAL;VALUE=DURATION:PT1H
X-Robots-Tag:noindex
X-PUBLISHED-TTL:PT1H
BEGIN:VTIMEZONE
TZID:Europe/Athens
BEGIN:DAYLIGHT
TZOFFSETFROM:+0200
TZOFFSETTO:+0300
TZNAME:EEST
DTSTART:20240331T010000
END:DAYLIGHT
BEGIN:STANDARD
TZOFFSETFROM:+0300
TZOFFSETTO:+0200
TZNAME:EET
DTSTART:20241027T010000
END:STANDARD
BEGIN:DAYLIGHT
TZOFFSETFROM:+0200
TZOFFSETTO:+0300
TZNAME:EEST
DTSTART:20250330T010000
END:DAYLIGHT
BEGIN:STANDARD
TZOFFSETFROM:+0300
TZOFFSETTO:+0200
TZNAME:EET
DTSTART:20251026T010000
END:STANDARD
BEGIN:DAYLIGHT
TZOFFSETFROM:+0200
TZOFFSETTO:+0300
TZNAME:EEST
DTSTART:20260329T010000
END:DAYLIGHT
BEGIN:STANDARD
TZOFFSETFROM:+0300
TZOFFSETTO:+0200
TZNAME:EET
DTSTART:20261025T010000
END:STANDARD
END:VTIMEZONE
BEGIN:VEVENT
DTSTART;TZID=Europe/Athens:20250611T210000
DTEND;TZID=Europe/Athens:20250611T210000
DTSTAMP:20260423T232723
CREATED:20250611T120433Z
LAST-MODIFIED:20250611T120433Z
UID:31804-1749675600-1749675600@www.agiosnikolaos.gr
SUMMARY:Συναυλία Γιώργου Θεοφάνους στην Λίμνη Αγίου Νικολάου
DESCRIPTION:Το 5ο Φεστιβάλ Κρήτης ανοίγει αυλαία στον Άγιο Νικόλαο με μια προφεστιβαλική εκδήλωση σε συνδιοργάνωση της Περιφέρειας Κρήτης και του Δήμου Αγίου Νικολάου. Η δράση του Φεστιβάλ Κρήτης πραγματοποιείται υπό την αιγίδα του Υπουργείου Πολιτισμού. \nΟ γνωστός συνθέτης και στιχουργός Γιώργος Θεοφάνους γιορτάζοντας 35 χρόνια στην ελληνική δισκογραφία παρουσιάζει την Τετάρτη 11 Ιουνίου 2025 στην Λίμνη μεγάλες επιτυχίες στην μουσική παράσταση «35 σ΄ αγαπώ» με τα πιο αγαπημένα τραγούδια συνθετών με τους οποίους έχει συνεργαστεί. \nΏρα έναρξης : 21:00 \nΗ εκδήλωση είναι ανοικτή για το κοινό \n 
URL:https://www.agiosnikolaos.gr/event/synavlia-giorgou-theofanous-stin-limni/
LOCATION:Λίμνη Αγίου Νικολάου\, Λίμνη Βουλισμένη\, Άγιος Νικόλαος\, Λασιθίου\, 72100\, Greece
CATEGORIES:Συναυλία
ATTACH;FMTTYPE=image/jpeg:https://www.agiosnikolaos.gr/wp-content/uploads/2025/06/20250607_193204.jpg
ORGANIZER;CN="%CE%94%CE%AE%CE%BC%CE%BF%CF%82 %CE%91%CE%B3%CE%AF%CE%BF%CF%85 %CE%9D%CE%B9%CE%BA%CE%BF%CE%BB%CE%AC%CE%BF%CF%85":MAILTO:info@agiosnikolaos.gr
END:VEVENT
BEGIN:VEVENT
DTSTART;TZID=Europe/Athens:20250617T200000
DTEND;TZID=Europe/Athens:20250617T200000
DTSTAMP:20260423T232723
CREATED:20250617T053447Z
LAST-MODIFIED:20250617T053447Z
UID:31912-1750190400-1750190400@www.agiosnikolaos.gr
SUMMARY:Συναυλία Αλεξάνδρας Μπουνάτσα στη Μαρίνα Αγίου Νικολάου
DESCRIPTION:Μια βραδιά γεμάτη ρυθμό\, ένταση και μουσική έρχεται στον Άγιο Νικόλαο στο πλαίσιο του «Πανελλήνιου Πρωταθλήματος Optimist U13» \nΣτο πλαίσιο του «Πανελληνίου Πρωταθλήματος Ιστιοπλοΐας Optimist U13» η δυναμική pop καλλιτέχνιδα Αλεξάνδρα Μπουνάτσα έρχεται στην Κρήτη για ένα μοναδικό live. \nΤην Τρίτη 17 Ιουνίου 2025 στην Μαρίνα Αγίου Νικολάου παρουσιάζει τραγούδια από τον νέο δίσκο «Ένα γύρο τον κόσμο»\, μεγάλες pop επιτυχίες που σημάδεψαν τη δισκογραφία της και λαϊκές ερμηνείες που αναδεικνύουν τη μουσική της ευελιξία. \nΏρα έναρξης : 20:00 \nΕίσοδος ελεύθερη \nΧρήσιμες πληροφορίες για συμμετέχοντες & συνοδούς: https://bit.ly/optimist-u13-2025
URL:https://www.agiosnikolaos.gr/event/synavlia-alexandras-bounatsa-sti-marina-agiou-nikolaou/
LOCATION:Μαρίνα Αγίου Νικολάου\, Μαρίνα Αγίου Νικολάου\, Αγιος Νικόλαος\, Λασιθίου\, 72100\, Greece
CATEGORIES:Συναυλία
ATTACH;FMTTYPE=image/png:https://www.agiosnikolaos.gr/wp-content/uploads/2025/06/received_1439297730409223.png
END:VEVENT
BEGIN:VEVENT
DTSTART;TZID=Europe/Athens:20250617T203000
DTEND;TZID=Europe/Athens:20250617T203000
DTSTAMP:20260423T232723
CREATED:20250617T060412Z
LAST-MODIFIED:20250617T060439Z
UID:31921-1750192200-1750192200@www.agiosnikolaos.gr
SUMMARY:Το τέρτιν της καρδούλας μου - Μουσική Εκδήλωση
DESCRIPTION:Μια εκδήλωση με μουσικές και τραγούδια από την μουσική παράδοση της Κύπρου και της Κρήτης \nΤο Εργαστήρι Θεάτρου – Κινηματογράφου- Μουσικής του Τμήματος Φιλολογίας του Πανεπιστημίου Κρήτης που υλοποιεί το πρόγραμμα «Η Τέχνη του ρυθμού στην εκπαίδευση – Η Μουσική στην Κοινότητα» σε συνεργασία με τον Δήμο Αγίου Νικολάου και την Περιφέρεια Κρήτης (Περιφερειακή Ενότητα Λασιθίου) διοργανώνουν Μουσική Εκδήλωση με μουσικές και τραγούδια από την μουσική παράδοση της Κύπρου και της Κρήτης. \nΟι συμμετέχοντες του προγράμματος συμπράττουν επί σκηνής με τους σολίστ Γιάννη Κουτή στο τραγούδι και στο ούτι\, Ζαχάρη Σπυριδάκη στο κρητική λύρα και Γιώργο Σταυρακάκη στο λαούτο. \nΗ εκδήλωση θα πραγματοποιηθεί την Τρίτη 17 Ιουνίου 2025 στo θερινό κινηματογράφο «Χριστίνα». \nΏρα έναρξης 20:30. \nΔιάρκεια 75 λεπτά. \nΕίσοδος ελεύθερη.
URL:https://www.agiosnikolaos.gr/event/to-tertin-tis-kardoulas-mou-mousiki-ekdilosi/
LOCATION:Κινηματοθέατρο ΧΡΙΣΤΙΝΑ\, Εθνικής Αντιστάσεως 11\, Άγιος Νικόλαος\, Λασιθίου\, 72100\, Ελλάδα
CATEGORIES:Συναυλία
ATTACH;FMTTYPE=image/jpeg:https://www.agiosnikolaos.gr/wp-content/uploads/2025/06/thumbnail_Post_Agios-Nikolaos_1080x1350px.jpg
ORGANIZER;CN="%CE%94%CE%AE%CE%BC%CE%BF%CF%82 %CE%91%CE%B3%CE%AF%CE%BF%CF%85 %CE%9D%CE%B9%CE%BA%CE%BF%CE%BB%CE%AC%CE%BF%CF%85":MAILTO:info@agiosnikolaos.gr
END:VEVENT
END:VCALENDAR