BEGIN:VCALENDAR
VERSION:2.0
PRODID:-//Δήμος Αγίου Νικολάου - ECPv6.15.18//NONSGML v1.0//EN
CALSCALE:GREGORIAN
METHOD:PUBLISH
X-WR-CALNAME:Δήμος Αγίου Νικολάου
X-ORIGINAL-URL:https://www.agiosnikolaos.gr
X-WR-CALDESC:Events for Δήμος Αγίου Νικολάου
REFRESH-INTERVAL;VALUE=DURATION:PT1H
X-Robots-Tag:noindex
X-PUBLISHED-TTL:PT1H
BEGIN:VTIMEZONE
TZID:Europe/Athens
BEGIN:DAYLIGHT
TZOFFSETFROM:+0200
TZOFFSETTO:+0300
TZNAME:EEST
DTSTART:20240331T010000
END:DAYLIGHT
BEGIN:STANDARD
TZOFFSETFROM:+0300
TZOFFSETTO:+0200
TZNAME:EET
DTSTART:20241027T010000
END:STANDARD
BEGIN:DAYLIGHT
TZOFFSETFROM:+0200
TZOFFSETTO:+0300
TZNAME:EEST
DTSTART:20250330T010000
END:DAYLIGHT
BEGIN:STANDARD
TZOFFSETFROM:+0300
TZOFFSETTO:+0200
TZNAME:EET
DTSTART:20251026T010000
END:STANDARD
BEGIN:DAYLIGHT
TZOFFSETFROM:+0200
TZOFFSETTO:+0300
TZNAME:EEST
DTSTART:20260329T010000
END:DAYLIGHT
BEGIN:STANDARD
TZOFFSETFROM:+0300
TZOFFSETTO:+0200
TZNAME:EET
DTSTART:20261025T010000
END:STANDARD
END:VTIMEZONE
BEGIN:VEVENT
DTSTART;TZID=Europe/Athens:20250902T210000
DTEND;TZID=Europe/Athens:20250902T210000
DTSTAMP:20260423T182429
CREATED:20250829T053106Z
LAST-MODIFIED:20250829T053106Z
UID:33543-1756846800-1756846800@www.agiosnikolaos.gr
SUMMARY:Συναυλία - Λίμνη Βουλισμένη
DESCRIPTION:Ο Παγκρήτιος Σύλλογος Καλλιτεχνών Κρητικής Μουσικής πραγματοποιεί μια μοναδική συναυλία την Τρίτη 2 Σεπτεμβρίου 2025. \nΣτη γραφική Λίμνη Αγίου Νικολάου συναντώνται άνθρωποι που έχουν βιώσει\, πιστέψει κι ακολουθήσει πιστά την μουσική της Κρήτης μας. Καλλιτέχνες που έχουν προσφέρει με τρόπο μοναδικό στην ιστορία και το πολιτισμό του τόπου μας. \nΕνώνουν τις δυνάμεις τους για ένα κοινό στόχο: την Κρητική μουσική παράδοση. \nΛίμνη Αγίου Νικολάου \nΏρα :21:00 \nΔιοργάνωση : Περιφέρεια Κρήτης – Δήμος Αγίου Νικολάου \nΕίσοδος ελεύθερη
URL:https://www.agiosnikolaos.gr/event/synavlia-limni-voulismeni/
LOCATION:Αύλειος χώρος Δημοτικού Σχολείου Βουλισμένης\, Βουλισμένη\, Άγιος Νικόλαος\, Νεάπολη Κρήτης\, Άγιος Νικόλαος\, Λασιθίου\, 72400\, Ελλάδα
CATEGORIES:Συναυλία
ATTACH;FMTTYPE=image/jpeg:https://www.agiosnikolaos.gr/wp-content/uploads/2025/08/ΑΓΙΟΣ-ΝΙΚΟΛΑΟΣ-2025.jpg
END:VEVENT
BEGIN:VEVENT
DTSTART;TZID=Europe/Athens:20250919T200000
DTEND;TZID=Europe/Athens:20250919T200000
DTSTAMP:20260423T182429
CREATED:20250916T094746Z
LAST-MODIFIED:20250916T094824Z
UID:33890-1758312000-1758312000@www.agiosnikolaos.gr
SUMMARY:Βραδιά Μπουάτ στο Λιμανάκι του Σισίου
DESCRIPTION:  \nΟι Μπουάτ που αποτέλεσαν μια από τις πιο υγιείς και άμεσες εκφάνσεις του ελληνικού τραγουδιού ως τρόπου ψυχαγωγίας και επικοινωνίας « ζωντανεύουν» ξανά στην εκδήλωση που διοργανώνει ο Δήμος Αγίου Νικολάου στο Λιμανάκι του Σισίου την Παρασκευή 19 Σεπτεμβρίου. \nΣυμμετέχουν ο Μιχάλης Κακέπης με την κιθάρα του και  ο Ματθαίος Τερζάκης (φωνή – μαντολίνο). \nΏρα έναρξης :20:00 \nΕίσοδος ελεύθερη
URL:https://www.agiosnikolaos.gr/event/vradia-bouat-sto-limanaki-tou-sisiou/
LOCATION:Σίσι\, Σίσι\, Άγιος Νικόλαος\, Σίσι\, Άγιος Νικόλαος\, Λασιθίου\, 72400\, Ελλάδα
CATEGORIES:Συναυλία,Χορός & Μουσική
ATTACH;FMTTYPE=image/jpeg:https://www.agiosnikolaos.gr/wp-content/uploads/2025/09/20250915_181449-1.jpg
ORGANIZER;CN="%CE%94%CE%AE%CE%BC%CE%BF%CF%82 %CE%91%CE%B3%CE%AF%CE%BF%CF%85 %CE%9D%CE%B9%CE%BA%CE%BF%CE%BB%CE%AC%CE%BF%CF%85":MAILTO:info@agiosnikolaos.gr
END:VEVENT
END:VCALENDAR