BEGIN:VCALENDAR
VERSION:2.0
PRODID:-//Δήμος Αγίου Νικολάου - ECPv6.15.18//NONSGML v1.0//EN
CALSCALE:GREGORIAN
METHOD:PUBLISH
X-WR-CALNAME:Δήμος Αγίου Νικολάου
X-ORIGINAL-URL:https://www.agiosnikolaos.gr
X-WR-CALDESC:Events for Δήμος Αγίου Νικολάου
REFRESH-INTERVAL;VALUE=DURATION:PT1H
X-Robots-Tag:noindex
X-PUBLISHED-TTL:PT1H
BEGIN:VTIMEZONE
TZID:Europe/Athens
BEGIN:DAYLIGHT
TZOFFSETFROM:+0200
TZOFFSETTO:+0300
TZNAME:EEST
DTSTART:20240331T010000
END:DAYLIGHT
BEGIN:STANDARD
TZOFFSETFROM:+0300
TZOFFSETTO:+0200
TZNAME:EET
DTSTART:20241027T010000
END:STANDARD
BEGIN:DAYLIGHT
TZOFFSETFROM:+0200
TZOFFSETTO:+0300
TZNAME:EEST
DTSTART:20250330T010000
END:DAYLIGHT
BEGIN:STANDARD
TZOFFSETFROM:+0300
TZOFFSETTO:+0200
TZNAME:EET
DTSTART:20251026T010000
END:STANDARD
BEGIN:DAYLIGHT
TZOFFSETFROM:+0200
TZOFFSETTO:+0300
TZNAME:EEST
DTSTART:20260329T010000
END:DAYLIGHT
BEGIN:STANDARD
TZOFFSETFROM:+0300
TZOFFSETTO:+0200
TZNAME:EET
DTSTART:20261025T010000
END:STANDARD
END:VTIMEZONE
BEGIN:VEVENT
DTSTART;TZID=Europe/Athens:20250718T210000
DTEND;TZID=Europe/Athens:20250718T210000
DTSTAMP:20260423T232730
CREATED:20250702T112848Z
LAST-MODIFIED:20250702T114235Z
UID:32336-1752872400-1752872400@www.agiosnikolaos.gr
SUMMARY:ΣΚΙΑΔΑΡΕΣΕΣ - ΥΠΑΙΘΡΙΟ ΘΕΑΤΡΟ ΕΟΤ
DESCRIPTION:Οι Σκιαδαρέσες\, ένα από τα πιο αυθεντικά και ανατρεπτικά συγκροτήματα του ελληνικού μουσικού χώρου\, έρχονται για μια μοναδική συναυλία την Παρασκευή 18 Ιουλίου 2025 στο Υπαίθριο Θέατρο Ε.Ο.Τ. στον Άγιο Νικόλαο. \nΜε ήχο που συνδυάζει indie\, rock και alternative επιρροές\, οι δίδυμες Νίκη και Όλγα Σκιαδαρέση πρωταγωνιστούν στην απόλυτη καλοκαιρινή συνάντηση που δεν πρέπει να χάσεις! \nΜε τη μοναδική τους ικανότητα να συνδυάζουν τη σάτιρα\, τη μουσική\, το θέατρο και την ακαταμάχητη σκηνική τους παρουσία\, οι Σκιαδαρέσες μετατρέπουν κάθε εμφάνιση σε μια αυθεντική γιορτή. Παραδοσιακά και σύγχρονα ακούσματα\, αυτοσχεδιασμοί\, απρόβλεπτα happenings και έντονη αλληλεπίδραση με το κοινό\, δημιουργούν μια βραδιά που κανείς δεν ξεχνά. \nΜια παράσταση που δεν μοιάζει με καμία άλλη. Ανατρεπτική\, σαρκαστική\, μουσικά ευρηματική και πάνω απ’ όλα… αληθινή. \nΓιατί… οι Σκιαδαρέσες δεν έρχονται απλώς για να παίξουν. Έρχονται για να τα πουν όλα! \nΏρα Έναρξης: 21:00 \nΕισιτήρια: \nΠροπώληση (online): 15€ στο: https://www.ticketbox.gr/ekdilosi/skiadareses-live-agios-nikolaos/?fbclid=IwY2xjawLR9VlleHRuA2FlbQIxMABicmlkETFleld5S09UaEx0MkQzZjZUAR6_tOpzjVCGxIbggY09bjeZW7USPSYyNROax3D3sZcsPJUCyNRMLOjznFdqkA_aem_mVjihZFR0rcDAq6Nna8sVg \nΤαμείο: 18€
URL:https://www.agiosnikolaos.gr/event/skiadareses-ypaithrio-theatro-eot/
LOCATION:Ανοικτό Θέατρο Πλαζ ΕΟΤ\, Αναπαύσεως\, Άγιος Νικόλαος\, Λασιθίου\, 72100
CATEGORIES:Συναυλία
ATTACH;FMTTYPE=image/jpeg:https://www.agiosnikolaos.gr/wp-content/uploads/2025/07/1-2.jpg
ORGANIZER;CN="%CE%94%CE%AE%CE%BC%CE%BF%CF%82 %CE%91%CE%B3%CE%AF%CE%BF%CF%85 %CE%9D%CE%B9%CE%BA%CE%BF%CE%BB%CE%AC%CE%BF%CF%85":MAILTO:info@agiosnikolaos.gr
END:VEVENT
END:VCALENDAR