BEGIN:VCALENDAR
VERSION:2.0
PRODID:-//Δήμος Αγίου Νικολάου - ECPv6.15.18//NONSGML v1.0//EN
CALSCALE:GREGORIAN
METHOD:PUBLISH
X-ORIGINAL-URL:https://www.agiosnikolaos.gr
X-WR-CALDESC:Events for Δήμος Αγίου Νικολάου
REFRESH-INTERVAL;VALUE=DURATION:PT1H
X-Robots-Tag:noindex
X-PUBLISHED-TTL:PT1H
BEGIN:VTIMEZONE
TZID:Europe/Athens
BEGIN:DAYLIGHT
TZOFFSETFROM:+0200
TZOFFSETTO:+0300
TZNAME:EEST
DTSTART:20240331T010000
END:DAYLIGHT
BEGIN:STANDARD
TZOFFSETFROM:+0300
TZOFFSETTO:+0200
TZNAME:EET
DTSTART:20241027T010000
END:STANDARD
BEGIN:DAYLIGHT
TZOFFSETFROM:+0200
TZOFFSETTO:+0300
TZNAME:EEST
DTSTART:20250330T010000
END:DAYLIGHT
BEGIN:STANDARD
TZOFFSETFROM:+0300
TZOFFSETTO:+0200
TZNAME:EET
DTSTART:20251026T010000
END:STANDARD
BEGIN:DAYLIGHT
TZOFFSETFROM:+0200
TZOFFSETTO:+0300
TZNAME:EEST
DTSTART:20260329T010000
END:DAYLIGHT
BEGIN:STANDARD
TZOFFSETFROM:+0300
TZOFFSETTO:+0200
TZNAME:EET
DTSTART:20261025T010000
END:STANDARD
END:VTIMEZONE
BEGIN:VEVENT
DTSTART;TZID=Europe/Athens:20250721T203000
DTEND;TZID=Europe/Athens:20250721T203000
DTSTAMP:20260423T233950
CREATED:20250717T052243Z
LAST-MODIFIED:20250717T052243Z
UID:32600-1753129800-1753129800@www.agiosnikolaos.gr
SUMMARY:«Έλληνες & Τούρκοι τραγουδούν μαζί»  Ανοιχτό Θέατρο  Πλαζ ΕΟΤ
DESCRIPTION:Ο Δήμος Αγίου Νικολάου σας καλεί την Δευτέρα 21 Ιουλίου 2025 στις 20:30  στο ανοιχτό θέατρο της Πλαζ του ΕΟΤ για να παρακολουθήσετε την συναυλία με τίτλο «ΕΛΛΗΝΕΣ ΚΑΙ ΤΟΥΡΚΟΙ ΤΡΑΓΟΥΔΟΥΝ ΜΑΖΙ». \nΗ συναυλία έχει τεθεί υπό την αιγίδα του Υπουργείου Πολιτισμού. \nΠληροφορίες για τη συναυλία \nΤο μουσικό σχήμα δημιουργήθηκε από την ΑΜΚΕ «Στέγη ΒΙΤΣΕΝΤΖΟΣ ΚΟΡΝΑΡΟΣ» με έδρα την Σητεία. Για πρώτη φορά εμφανίστηκε πέρυσι στην Σητεία στην Ιεράπετρα και στο Ρέθυμνο. Φέτος εμφανίζεται και πάλι στη Σητεία (στο πλαίσιο του διεθνούς τριήμερου συνεδρίου που γίνεται στην πόλη στις 18\,19 και 20 Ιουλίου) και στον Άγιο Νικόλαο την Δευτέρα 21 Ιουλίου 2025 στο Ανοιχτό Θέατρο της Πλαζ του ΕΟΤ. Έχει τεθεί υπό την αιγίδα της υπουργού Πολιτισμού.Μια ξεχωριστή συναυλία όπου καταξιωμένοι Έλληνες και Τούρκοι καλλιτέχνες θα εμφανιστούν μαζί γιορτάζοντας τη δύναμη της μουσικής.Θα παρουσιάσουν αγαπημένα και κοινά τραγούδια και από τις δύο χώρες υπό τη διεύθυνση του μεγάλου Έλληνα βιολονίστα Κυριάκου Γκουβέντα.. \nΤο μουσικό σχήμα αποτελείται από τους μουσικούς : \nΚυριάκο Γκουβέντα (Βιολί)\nΒασίλη Κασούρα (Λαούτο)\nΕύη Κανέλλου (Κρουστά ανατολής)\nΝίκος Ταλέας (Πλήκτρα)\nΜαρία Φραγκούλη (Τραγούδι)\nAli Agri  (Ούτι)\nFotini Kokkala (Κανονάκι)\nMehmet Ali Orman (Κλαρίνο)\nAslan Cigdem (Τραγούδι) \n 
URL:https://www.agiosnikolaos.gr/event/ellines-tourkoi-tragoudoun-mazi-anoichto-theatro-plaz-eot/
LOCATION:Ανοικτό Θέατρο Πλαζ ΕΟΤ\, Αναπαύσεως\, Άγιος Νικόλαος\, Λασιθίου\, 72100
CATEGORIES:Συναυλία
ATTACH;FMTTYPE=image/jpeg:https://www.agiosnikolaos.gr/wp-content/uploads/2025/07/3.jpg
ORGANIZER;CN="%CE%94%CE%AE%CE%BC%CE%BF%CF%82 %CE%91%CE%B3%CE%AF%CE%BF%CF%85 %CE%9D%CE%B9%CE%BA%CE%BF%CE%BB%CE%AC%CE%BF%CF%85":MAILTO:info@agiosnikolaos.gr
END:VEVENT
END:VCALENDAR