BEGIN:VCALENDAR
VERSION:2.0
PRODID:-//Δήμος Αγίου Νικολάου - ECPv6.15.18//NONSGML v1.0//EN
CALSCALE:GREGORIAN
METHOD:PUBLISH
X-WR-CALNAME:Δήμος Αγίου Νικολάου
X-ORIGINAL-URL:https://www.agiosnikolaos.gr
X-WR-CALDESC:Events for Δήμος Αγίου Νικολάου
REFRESH-INTERVAL;VALUE=DURATION:PT1H
X-Robots-Tag:noindex
X-PUBLISHED-TTL:PT1H
BEGIN:VTIMEZONE
TZID:Europe/Athens
BEGIN:DAYLIGHT
TZOFFSETFROM:+0200
TZOFFSETTO:+0300
TZNAME:EEST
DTSTART:20240331T010000
END:DAYLIGHT
BEGIN:STANDARD
TZOFFSETFROM:+0300
TZOFFSETTO:+0200
TZNAME:EET
DTSTART:20241027T010000
END:STANDARD
BEGIN:DAYLIGHT
TZOFFSETFROM:+0200
TZOFFSETTO:+0300
TZNAME:EEST
DTSTART:20250330T010000
END:DAYLIGHT
BEGIN:STANDARD
TZOFFSETFROM:+0300
TZOFFSETTO:+0200
TZNAME:EET
DTSTART:20251026T010000
END:STANDARD
BEGIN:DAYLIGHT
TZOFFSETFROM:+0200
TZOFFSETTO:+0300
TZNAME:EEST
DTSTART:20260329T010000
END:DAYLIGHT
BEGIN:STANDARD
TZOFFSETFROM:+0300
TZOFFSETTO:+0200
TZNAME:EET
DTSTART:20261025T010000
END:STANDARD
END:VTIMEZONE
BEGIN:VEVENT
DTSTART;TZID=Europe/Athens:20250807T213000
DTEND;TZID=Europe/Athens:20250807T213000
DTSTAMP:20260423T232722
CREATED:20250729T063107Z
LAST-MODIFIED:20250729T063851Z
UID:32983-1754602200-1754602200@www.agiosnikolaos.gr
SUMMARY:Συναυλία Αλκίνοου Ιωαννίδη στη Μίλατο
DESCRIPTION:Ένα μεγάλο καλλιτεχνικό γεγονός με αφορμή την επανένωση της ιστορικής μπάντας του. \n📌Στο Λιμάνι της Μιλάτου θα πραγματοποιηθεί την Πέμπτη 7 Αυγούστου 2025 η συναυλία του Αλκίνοου Ιωαννίδη που διοργανώνει ο Δήμος Αγίου Νικολάου σε συνεργασία με τον Πολιτιστικό Σύλλογο Μιλάτου. \n🕰️Ώρα έναρξης 21:30. \n⏱️Οι πόρτες ανοίγουν στις 20:00 \n💸Τιμή εισόδου 17 ευρώ \nΟι διοργανωτές της συναυλίας αναφέρουν: \nΠέρασαν ήδη πέντε χρόνια από την επανένωση της ιστορικής μπάντας του Αλκίνοου Ιωαννίδη η οποία αποτέλεσε ένα μεγάλο καλλιτεχνικό γεγονός. Είκοσι πέντε χρόνια μετά τις πρώτες τους κοινές εμφανίσεις και της ηχογράφησης του live album ΕΚΤΟΣ ΤΟΠΟΥ ΚΑΙ ΧΡΟΝΟΥ\, οι σπουδαίοι μουσικοί συνεχίζουν και αυτό το καλοκαίρι τις εμφανίσεις τους σε ιδιαίτερους χώρους και φεστιβάλ\, παρουσιάζοντας ένα πρόγραμμα γεμάτο δημιουργικότητα\, συγκίνηση και ενέργεια.\nΈνα πρόγραμμα γεμάτο από αγαπημένα τραγούδια\, απρόσμενες διασκευές\, αυτοσχεδιασμό και επικοινωνία.\nΜια ηλεκτρική γιορτή μέσα στα δύσκολα της εποχής μας\, μια ολοζώντανη επιβεβαίωση της σχέσης μεταξύ των μουσικών και του κοινού\, μια πολύτιμη μοιρασιά ψυχής που όλοι χρειαζόμαστε.\n«Δεν νοσταλγούμε το παρελθόν\, ζητούμε το παρόν! Παίζουμε ξανά μαζί γιατί λείψαμε ο ένας στον άλλον\, μουσικά και ανθρώπινα. Και γιατί μας λείψατε!» \nΣταύρος Λάντσιας: πλήκτρα\nΜιλτιάδης Παπαστάμου: ηλεκτρικό βιολί\nΓιώτης Κιουρτσόγλου: ηλεκτρικό μπάσο\nΜιχάλης Καπηλίδης: τύμπανα\nΑλκίνοος Ιωαννίδης: ηλεκτρική κιθάρα\, φωνή\nΗχοληψία: Βαγγέλης Λάππας – Βασίλης Δρούγκας\nΣχεδιασμός φωτισμών: Μαρία Βενετάκη \n 
URL:https://www.agiosnikolaos.gr/event/synavlia-alkinoou-ioannidi-sti-milato/
LOCATION:Λιμανάκι Μιλάτου\, Μίλατος\, Μίλατος\, Λασιθίου\, 72100\, Ελλάδα
CATEGORIES:Συναυλία
ATTACH;FMTTYPE=image/jpeg:https://www.agiosnikolaos.gr/wp-content/uploads/2025/07/524434894_1050949433866221_647763749919259666_n.jpg
END:VEVENT
BEGIN:VEVENT
DTSTART;TZID=Europe/Athens:20250807T213000
DTEND;TZID=Europe/Athens:20250807T213000
DTSTAMP:20260423T232722
CREATED:20250721T050404Z
LAST-MODIFIED:20250721T050404Z
UID:32652-1754602200-1754602200@www.agiosnikolaos.gr
SUMMARY:Συναυλία Αλκίνοου Ιωαννίδη στο Λιμάνι της Μιλάτου
DESCRIPTION:Στο Λιμάνι της Μιλάτου θα πραγματοποιηθεί την Πέμπτη 7 Αυγούστου 2025 η συναυλία του Αλκίνοου Ιωαννίδη που διοργανώνει ο Δήμος Αγίου Νικολάου σε συνεργασία με τον Πολιτιστικό Σύλλογο Μιλάτου. \nΏρα έναρξης 21:30. \nΟι πόρτες ανοίγουν στις 20:00 \nΤιμή εισόδου 17 ευρώ \n\nΟι διοργανωτές της συναυλίας αναφέρουν : \nΠέρασαν ήδη πέντε χρόνια από την επανένωση της ιστορικής μπάντας του Αλκίνοου Ιωαννίδη η οποία αποτέλεσε ένα μεγάλο καλλιτεχνικό γεγονός. Είκοσι πέντε χρόνια μετά τις πρώτες τους κοινές εμφανίσεις και της ηχογράφησης του live album ΕΚΤΟΣ ΤΟΠΟΥ ΚΑΙ ΧΡΟΝΟΥ\, οι σπουδαίοι μουσικοί συνεχίζουν και αυτό το καλοκαίρι τις εμφανίσεις τους σε ιδιαίτερους χώρους και φεστιβάλ\,  παρουσιάζοντας ένα πρόγραμμα γεμάτο δημιουργικότητα\, συγκίνηση και ενέργεια. \nΈνα πρόγραμμα γεμάτο από αγαπημένα τραγούδια\, απρόσμενες διασκευές\, αυτοσχεδιασμό και επικοινωνία. \nΜια ηλεκτρική γιορτή μέσα στα δύσκολα της εποχής μας\, μια ολοζώντανη επιβεβαίωση της σχέσης μεταξύ των μουσικών και του κοινού\, μια πολύτιμη μοιρασιά ψυχής που όλοι χρειαζόμαστε. \n«Δεν νοσταλγούμε το παρελθόν\, ζητούμε το παρόν! Παίζουμε ξανά μαζί γιατί λείψαμε ο ένας στον άλλον\, μουσικά και ανθρώπινα. Και γιατί μας λείψατε!» \nΣταύρος Λάντσιας: πλήκτρα \nΜιλτιάδης Παπαστάμου: ηλεκτρικό βιολί \nΓιώτης Κιουρτσόγλου: ηλεκτρικό μπάσο \nΜιχάλης Καπηλίδης: τύμπανα \nΑλκίνοος Ιωαννίδης: ηλεκτρική κιθάρα\, φωνή \nΗχοληψία: Βαγγέλης Λάππας – Βασίλης Δρούγκας \nΣχεδιασμός φωτισμών: Μαρία Βενετάκη
URL:https://www.agiosnikolaos.gr/event/synavlia-alkinoou-ioannidi-sto-limani-tis-milatou/
LOCATION:Λασιθίου
CATEGORIES:Συναυλία
ATTACH;FMTTYPE=image/jpeg:https://www.agiosnikolaos.gr/wp-content/uploads/2025/07/f39ffc4e-3c5c-4c36-b2f6-691f6002f0d5.jpg
ORGANIZER;CN="%CE%94%CE%AE%CE%BC%CE%BF%CF%82 %CE%91%CE%B3%CE%AF%CE%BF%CF%85 %CE%9D%CE%B9%CE%BA%CE%BF%CE%BB%CE%AC%CE%BF%CF%85":MAILTO:info@agiosnikolaos.gr
END:VEVENT
END:VCALENDAR