BEGIN:VCALENDAR
VERSION:2.0
PRODID:-//Δήμος Αγίου Νικολάου - ECPv6.15.18//NONSGML v1.0//EN
CALSCALE:GREGORIAN
METHOD:PUBLISH
X-ORIGINAL-URL:https://www.agiosnikolaos.gr
X-WR-CALDESC:Events for Δήμος Αγίου Νικολάου
REFRESH-INTERVAL;VALUE=DURATION:PT1H
X-Robots-Tag:noindex
X-PUBLISHED-TTL:PT1H
BEGIN:VTIMEZONE
TZID:Europe/Athens
BEGIN:DAYLIGHT
TZOFFSETFROM:+0200
TZOFFSETTO:+0300
TZNAME:EEST
DTSTART:20240331T010000
END:DAYLIGHT
BEGIN:STANDARD
TZOFFSETFROM:+0300
TZOFFSETTO:+0200
TZNAME:EET
DTSTART:20241027T010000
END:STANDARD
BEGIN:DAYLIGHT
TZOFFSETFROM:+0200
TZOFFSETTO:+0300
TZNAME:EEST
DTSTART:20250330T010000
END:DAYLIGHT
BEGIN:STANDARD
TZOFFSETFROM:+0300
TZOFFSETTO:+0200
TZNAME:EET
DTSTART:20251026T010000
END:STANDARD
BEGIN:DAYLIGHT
TZOFFSETFROM:+0200
TZOFFSETTO:+0300
TZNAME:EEST
DTSTART:20260329T010000
END:DAYLIGHT
BEGIN:STANDARD
TZOFFSETFROM:+0300
TZOFFSETTO:+0200
TZNAME:EET
DTSTART:20261025T010000
END:STANDARD
END:VTIMEZONE
BEGIN:VEVENT
DTSTART;TZID=Europe/Athens:20251220T190000
DTEND;TZID=Europe/Athens:20251221T200000
DTSTAMP:20260423T145255
CREATED:20251217T072229Z
LAST-MODIFIED:20251217T072229Z
UID:36000-1766257200-1766347200@www.agiosnikolaos.gr
SUMMARY:Χριστουγεννιάτικες Συναυλίες Χορωδιακών Συνόλων Δήμου Αγίου Νικολάου
DESCRIPTION:Χριστουγεννιάτικες μελωδίες και τραγούδια των ημερών φιλοξενεί το εορταστικό πρόγραμμα του Δήμου Αγίου Νικολάου σε δυο συναυλίες που θα πραγματοποιηθούν στα κινηματοθέατρα «Δρήρος» και «REX» με τα Χορωδιακά Σύνολα του Δήμου Αγίου Νικολάου. \nΤο Σάββατο 20 Δεκεμβρίου θα δοθεί η πρώτη συναυλία στο κινηματοθέατρο «Δρήρος» της Νεάπολης με ώρα έναρξης : (19:00) ενώ ακολουθεί την Κυριακή 21 Δεκεμβρίου 2025 η δεύτερη συναυλία στο κινηματοθέατρο «REX» με ώρα έναρξης : (20:00). \nΣυμμετέχουν οι μουσικοί : Ζιούτης Χρήστος (βιολί)\, Κανακάκης Αλέξανδρος (Λαούτο Στεριανό\, Μαντολίνο\, Πνευστά). \nΠιάνο- διδασκαλία – Διεύθυνση Μανώλης Κανακάκης. \nΕπιμέλεια ανάγνωση κειμένων : Νίκος Τζώρτζης. \nΗ είσοδος για το κοινό είναι ελεύθερη
URL:https://www.agiosnikolaos.gr/event/christougenniatikes-synavlies-chorodiakon-synolon-dimou-agiou-nikolaou/
LOCATION:Κινηματοθέατρο Δρήρος-Κινηματοθέατρο REX\, 72100\, Greece
CATEGORIES:Συναυλία
ATTACH;FMTTYPE=image/jpeg:https://www.agiosnikolaos.gr/wp-content/uploads/2025/12/thumbnail_ΑΦΙΣΑ-χορωδιας-scaled.jpg
END:VEVENT
END:VCALENDAR