BEGIN:VCALENDAR
VERSION:2.0
PRODID:-//Δήμος Αγίου Νικολάου - ECPv6.15.18//NONSGML v1.0//EN
CALSCALE:GREGORIAN
METHOD:PUBLISH
X-ORIGINAL-URL:https://www.agiosnikolaos.gr
X-WR-CALDESC:Events for Δήμος Αγίου Νικολάου
REFRESH-INTERVAL;VALUE=DURATION:PT1H
X-Robots-Tag:noindex
X-PUBLISHED-TTL:PT1H
BEGIN:VTIMEZONE
TZID:Europe/Athens
BEGIN:DAYLIGHT
TZOFFSETFROM:+0200
TZOFFSETTO:+0300
TZNAME:EEST
DTSTART:20240331T010000
END:DAYLIGHT
BEGIN:STANDARD
TZOFFSETFROM:+0300
TZOFFSETTO:+0200
TZNAME:EET
DTSTART:20241027T010000
END:STANDARD
BEGIN:DAYLIGHT
TZOFFSETFROM:+0200
TZOFFSETTO:+0300
TZNAME:EEST
DTSTART:20250330T010000
END:DAYLIGHT
BEGIN:STANDARD
TZOFFSETFROM:+0300
TZOFFSETTO:+0200
TZNAME:EET
DTSTART:20251026T010000
END:STANDARD
BEGIN:DAYLIGHT
TZOFFSETFROM:+0200
TZOFFSETTO:+0300
TZNAME:EEST
DTSTART:20260329T010000
END:DAYLIGHT
BEGIN:STANDARD
TZOFFSETFROM:+0300
TZOFFSETTO:+0200
TZNAME:EET
DTSTART:20261025T010000
END:STANDARD
END:VTIMEZONE
BEGIN:VEVENT
DTSTART;TZID=Europe/Athens:20250426T200000
DTEND;TZID=Europe/Athens:20250427T213000
DTSTAMP:20260423T131157
CREATED:20250424T100547Z
LAST-MODIFIED:20250424T100547Z
UID:30841-1745697600-1745789400@www.agiosnikolaos.gr
SUMMARY:Ένα διαφορετικό εικαστικό δρώμενο παρουσιάζεται το Σάββατο και την Κυριακή στο Ειρηνοδικείο
DESCRIPTION:  \nΈνα διαφορετικό εικαστικό δρώμενο παρουσιάζεται το Σάββατο και την Κυριακή 26 & 27 Απριλίου 2025 στο Ειρηνοδικείο με την στήριξη του Δήμου Αγίου Νικολάου \nΈνα εικαστικό δρώμενο εμπνευσμένο από την φύση και την θάλασσα διοργανώνει ο Δήμος Αγίου Νικολάου το Σάββατο 26 και την Κυριακή 27 Απριλίου 2025 στο Ειρηνοδικείο Αγίου Νικολάου.\nΉδη από τον περασμένο Ιανουάριο η εικαστικός Δώρα Δημητρίου με την συνδρομή μαθητών των εργαστηρίων που φιλοξενήθηκαν στον ίδιο χώρο\, δημιούργησαν ένα συλλογικό ζωγραφικό έργο που αποτελείται από 20 επιμέρους έργα τέχνης διακοσμημένα με θαλασσόξυλα και χειροποίητα φωτιστικά.Έργα που γεννήθηκαν από την επαφή με τη φύση\, το ξύλο της θάλασσας και την δύναμη της κοινής τους προσπάθειας.Ένα ταξίδι στο χώρο και στο χρόνο\, μια ιστορία με σχήματα-φόρμες και μορφές που ζωντανεύουν ξανά στον κόσμο των ανθρώπων.\nΗ καλλιτεχνική εκδήλωση ξεκινά στις:20:00 και ολοκληρώνεται στις 21:30. \nΑπαραίτητη δήλωση συμμετοχής το τηλέφωνο: 6946743142. \nΗ εκδηλώσεις πλαισιωθούν από: \n-Απαγγελία από την Σόφη Κορομπύλια\,\n-Μουσική (Φλάουτο) από την Χαρά Νιωτάκη\,\n-Χορό από τους Κατερίνα Τσουμάνα\, Άρη Χαμηλάκη\, Ερατώ Καπετανάκη\, Εμμέλεια Γερόντη\, Μαρία Αγγέλου\, Μαρία Καλύβα\, Χριστίνα Μυτακάκη\nΧορηγός: ΦΩΣ & ΗΧΟΣ – Γιάννης Πάγκαλος \nΣτον χώρο του Ειρηνοδικείου Αγίου Νικολάου από την Δευτέρα 28 Απριλίου έως τις 4 Μαΐου 2025 θα λειτουργήσει έκθεση ζωγραφικής (Driftwood art) της Δώρας Δημητρίου. \nΗ έκθεση θα είναι ανοικτή για το κοινό καθημερινά από τις :18:00 – 21:00. \n 
URL:https://www.agiosnikolaos.gr/event/ena-diaforetiko-eikastiko-dromeno-parousiazetai-sto-eirinodikeio/
LOCATION:Παλαιό Ειρηνοδικείο Αγίου Νικολάου\, Νικολάου Πλαστήρα 18\, Αγιος Νικόλαος\, Λασιθίου\, 72100
CATEGORIES:Εικαστικό Δρώμενο
ATTACH;FMTTYPE=image/jpeg:https://www.agiosnikolaos.gr/wp-content/uploads/2025/04/20250424_112337.jpg
ORGANIZER;CN="%CE%94%CE%AE%CE%BC%CE%BF%CF%82 %CE%91%CE%B3%CE%AF%CE%BF%CF%85 %CE%9D%CE%B9%CE%BA%CE%BF%CE%BB%CE%AC%CE%BF%CF%85":MAILTO:info@agiosnikolaos.gr
END:VEVENT
END:VCALENDAR