BEGIN:VCALENDAR
VERSION:2.0
PRODID:-//Δήμος Αγίου Νικολάου - ECPv6.15.18//NONSGML v1.0//EN
CALSCALE:GREGORIAN
METHOD:PUBLISH
X-WR-CALNAME:Δήμος Αγίου Νικολάου
X-ORIGINAL-URL:https://www.agiosnikolaos.gr
X-WR-CALDESC:Events for Δήμος Αγίου Νικολάου
REFRESH-INTERVAL;VALUE=DURATION:PT1H
X-Robots-Tag:noindex
X-PUBLISHED-TTL:PT1H
BEGIN:VTIMEZONE
TZID:Europe/Athens
BEGIN:DAYLIGHT
TZOFFSETFROM:+0200
TZOFFSETTO:+0300
TZNAME:EEST
DTSTART:20250330T010000
END:DAYLIGHT
BEGIN:STANDARD
TZOFFSETFROM:+0300
TZOFFSETTO:+0200
TZNAME:EET
DTSTART:20251026T010000
END:STANDARD
BEGIN:DAYLIGHT
TZOFFSETFROM:+0200
TZOFFSETTO:+0300
TZNAME:EEST
DTSTART:20260329T010000
END:DAYLIGHT
BEGIN:STANDARD
TZOFFSETFROM:+0300
TZOFFSETTO:+0200
TZNAME:EET
DTSTART:20261025T010000
END:STANDARD
BEGIN:DAYLIGHT
TZOFFSETFROM:+0200
TZOFFSETTO:+0300
TZNAME:EEST
DTSTART:20270328T010000
END:DAYLIGHT
BEGIN:STANDARD
TZOFFSETFROM:+0300
TZOFFSETTO:+0200
TZNAME:EET
DTSTART:20271031T010000
END:STANDARD
END:VTIMEZONE
BEGIN:VEVENT
DTSTART;TZID=Europe/Athens:20260312T210000
DTEND;TZID=Europe/Athens:20260322T210000
DTSTAMP:20260419T184822
CREATED:20260309T113654Z
LAST-MODIFIED:20260309T120347Z
UID:37532-1773349200-1774213200@www.agiosnikolaos.gr
SUMMARY:Μακριά από Παιδιά - Κινηματοθέατρο REX
DESCRIPTION:Η Ερασιτεχνική Θεατρική Ομάδα Αγίου Νικολάου (Ε.Θ.Ο.Α.Ν.) παρουσιάζει τη νέα της θεατρική παραγωγή με τίτλο «Μακριά από Παιδιά»\, μια παράσταση που κινείται ανάμεσα στο δραματικό και το κωμικό\, φωτίζοντας τις ανθρώπινες σχέσεις\, τις απώλειες και τις εντάσεις της καθημερινότητας. \nΟι παραστάσεις θα δοθούν στις 12\, 13\, 14\, 15 & 19\, 20\, 21\, 22 Μαρτίου 2026 στο Κινηματοθέατρο REX στον Άγιο Νικόλαο. \nΏρα έναρξης: 21:00 \nΛίγα λόγια για την παράσταση \nΜετά από μια βαθιά προσωπική απώλεια\, ο Τάσος και η Όλγα μετακομίζουν σε ένα νέο σπίτι\, αναζητώντας μια καινούργια αρχή. Όμως ο χώρος που θα έπρεπε να τους προσφέρει ηρεμία μετατρέπεται σταδιακά σε πεδίο εντάσεων και αποκαλύψεων. Η προσωρινή παρουσία της μητέρας του Τάσου\, που παλεύει με την άνοια\, καθώς και η εμφάνιση ενός ξαδέλφου του Τάσου και ενός διακοσμητή\, λειτουργούν σαν καταλύτες σε μια ιστορία που ισορροπεί ανάμεσα στο δραματικό και το κωμικό. \nΤιμή εισιτηρίου \nΚανονικό: 12€ \nΦοιτητικό: 10€ \nΠροπώληση εισιτηρίων \n\nΣτο Κινηματοθέατρο ΡΕΞ τις ημέρες των παραστάσεων από τις 19:00\nΗλεκτρονικά:\n\nhttps://www.more.com/gr-el/tickets/theater/movietheaters/makria-apo-paidia/ \nΔιανομή (με σειρά εμφάνισης) \nΤάσος – Μεσίτης: Αντώνης Νοτάκης \nΌλγα – Σύζυγος του Τάσου: Μαρία Σπαθαράκη \nΑλίκη – Μητέρα του Τάσου: Άννα Μανιαδάκη \nΜπάμπης – Ξάδελφος του Τάσου: Κλέαρχος Κορκιδάκης \nΝτένης (Διονύσης) – Έλειπε χρόνια στο εξωτερικό: Μάριος Φουράκης \nΣυντελεστές Παράστασης \nΣκηνοθεσία: Φωτεινή Γωνιωτάκη \nΣκηνικά – Φωτισμοί – Φροντιστήριο: Κωνσταντίνα Τζώρτζη \nΤεχνικός σκηνής – Κατασκευές: Μανώλης Διαλυνάς \nΚοστούμια: Δέσποινα Κερούλη\, Μαριάνθη Μενεγάκη \nΥποβολείο: Μαριάννα Καμπανού \nΜουσική επιμέλεια: Χρήστος Ευαγγελινάκης \nΗχητική κάλυψη: ΦΩΣ & ΗΧΟΣ \nΜακιγιάζ: Δέσποινα Κερούλη\, Έλλη Λιόλιου \nΚομμώσεις: Ρένα Φιορέτζη \nΕπιμέλεια εντύπων: Φωτεινή Γωνιωτάκη\, Θοδωρής Μπεκατώρος \nΣχεδιασμός εντύπων: Φανή Μπατζάκη \nΗ Ε.Θ.Ο.Α.Ν. ευχαριστεί θερμά όλους τους υποστηρικτές και χορηγούς που συμβάλλουν στην πραγματοποίηση της παράστασης.
URL:https://www.agiosnikolaos.gr/event/makria-apo-paidia-kinimatotheatro-rex/
LOCATION:Κινηματοθέατρο REX\, Λασθένους και Σφακιανάκη\, Αγιος Νικόλαος\, Λασιθίου\, 72150\, Ελλάδα
CATEGORIES:Θεατρικό
ATTACH;FMTTYPE=image/png:https://www.agiosnikolaos.gr/wp-content/uploads/2026/03/1-3.png
END:VEVENT
BEGIN:VEVENT
DTSTART;TZID=Europe/Athens:20260314T173000
DTEND;TZID=Europe/Athens:20260314T173000
DTSTAMP:20260419T184822
CREATED:20260309T120636Z
LAST-MODIFIED:20260309T120637Z
UID:37540-1773509400-1773509400@www.agiosnikolaos.gr
SUMMARY:Η ΜΠΛΟΥ και το Μαγικό Κουτί των Ιδεών - Κινηματοθέατρο «ΔΡΗΡΟΣ»
DESCRIPTION:Μια ξεχωριστή παιδική θεατρική παράσταση για όλη την οικογένεια έρχεται το Σάββατο 14 Μαρτίου 2026 στο Κινηματοθέατρο «ΔΡΗΡΟΣ» στη Νεάπολη. \nΗ παιδική σκηνή ΣΑΜΕΝ παρουσιάζει το καινούργιο έργο του Δημήτρη Κίκλη\, «Η ΜΠΛΟΥ και το Μαγικό Κουτί των Ιδεών»\, μια τρυφερή\, διαδραστική και γεμάτη φαντασία εμπειρία για μικρούς και μεγάλους. \nΠρόκειται για μια παράσταση που συνδυάζει θέατρο\, παιχνίδι\, μουσική και συμμετοχή του κοινού\, προσκαλώντας τα παιδιά να γίνουν μέρος της ιστορίας και να ζήσουν μια ξεχωριστή θεατρική περιπέτεια. \n\nΏρα έναρξης: 17:30 \n\nΤι θα ζήσουν οι μικροί θεατές \nΣτην παράσταση γνωρίζουμε την Μπλου\, μια πανέξυπνη και χαριτωμένη ηρωίδα που\, μαζί με την οικογένεια και τους φίλους της\, ανακαλύπτει τη δύναμη της δημιουργικότητας μέσα από το «Μαγικό Κουτί των Ιδεών». \nΤα παιδιά δεν είναι απλοί θεατές. Συμμετέχουν ενεργά στην ιστορία\, λύνουν πρωτότυπους γρίφους και βοηθούν τους ήρωες να βρουν λύσεις μέσα από το παιχνίδι και τη φαντασία. \nΜέσα από την περιπέτεια αυτή αναδεικνύονται σημαντικά μηνύματα για την αξία της οικογένειας\, τη δύναμη της συνεργασίας\, την αποδοχή και τη δημιουργικότητα\, σε ένα κείμενο γραμμένο με βαθιά γνώση της παιδικής ψυχολογίας. \nΗ παράσταση αποτελεί μια προσεγμένη παραγωγή της ομάδας ΣΑΜΕΝ\, με έμφαση στην ποιότητα\, τη μουσική και τη διάδραση με το κοινό\, στοιχεία που αποτελούν το χαρακτηριστικό ύφος της ομάδας. \n\nΣυντελεστές \nΠρωτότυπο κείμενο: Δημήτρης Κίκλης \nΣκηνοθεσία – Καλλιτεχνική επιμέλεια: Μένια Ορφανίδου \nΠρωτότυπη μουσική – Στίχοι – Ενορχηστρώσεις: Δημήτρης Κίκλης \nΧορογραφίες / Κινησιολογία: Μένια Ορφανίδου \nΣκηνικά – Φωτισμοί: SAMEN Production \nΚοστούμια: Μιλένα \n\nΠαίζουν και τραγουδούν οι ηθοποιοί: \nΠέτρος Γρύλλος\, Ευθυμία Μαρκοπούλου\, Στράτος Νταλαμάγκος\, Σάββας Γραμματικός \nΑφήγηση: Μένια Ορφανίδου \n\nΔιάρκεια: 60 λεπτά (με 10 λεπτά διάλειμμα) \n\nΕισιτήρια \nΠροπώληση: 9€ \nΤαμείο: 10€ \nΜε γνώμονα την κοινή συμμετοχή γονέων και παιδιών\, η τιμή του εισιτηρίου είναι ίδια για όλους τους θεατές\, ενώ για παιδιά κάτω των 2 ετών η είσοδος είναι δωρεάν. \n\nΠροπώληση: \nhttps://www.more.com/gr-el/tickets/theater/children/i-mplou-kai-to-magiko-kouti-ton-ideon/ \nΠληροφορίες και τηλεφωνικές κρατήσεις: 6947817212 \n\n* Η παράσταση είναι ελεύθερα εμπνευσμένη από τη μαγεία του παιδικού παιχνιδιού και της φαντασίας. \n© Πρωτότυπο έργο – Όλα τα δικαιώματα κατοχυρωμένα στους δημιουργούς. \nΗ παράσταση δεν σχετίζεται με καμία υπάρχουσα τηλεοπτική παραγωγή
URL:https://www.agiosnikolaos.gr/event/i-blou-kai-to-magiko-kouti-ton-ideon-kinimatotheatro-driros/
LOCATION:Κινηματοθέατρο Δρήρος\, Αναπήρων Πολέμου 2\, Νεάπολη\, Λασιθίου\, 72400\, Greece
CATEGORIES:Θεατρικό
ATTACH;FMTTYPE=image/png:https://www.agiosnikolaos.gr/wp-content/uploads/2026/03/1-4.png
END:VEVENT
BEGIN:VEVENT
DTSTART;TZID=Europe/Athens:20260328T210000
DTEND;TZID=Europe/Athens:20260328T210000
DTSTAMP:20260419T184822
CREATED:20260324T060050Z
LAST-MODIFIED:20260324T060050Z
UID:37789-1774731600-1774731600@www.agiosnikolaos.gr
SUMMARY:Μακριά από Παιδιά» - Κινηματοθέατρο “ΔΡΗΡΟΣ”
DESCRIPTION:Η Ερασιτεχνική Θεατρική Ομάδα Αγίου Νικολάου (Ε.Θ.Ο.Α.Ν.) παρουσιάζει τη νέα της θεατρική παραγωγή\, με τίτλο «Μακριά από Παιδιά»\, μια παράσταση που κινείται ανάμεσα στο δραματικό και το κωμικό\, φωτίζοντας τις ανθρώπινες σχέσεις\, τις απώλειες και τις εντάσεις της καθημερινότητας\, στη Νεάπολη. \nΗ παράσταση θα δοθεί το Σάββατο 28 Μαρτίου 2026 στο Κινηματοθέατρο “ΔΡΗΡΟΣ”. \nΏρα έναρξης: 21:00 \n\nΤιμή εισιτηρίου \n\nΚανονικό: 12€\nΦοιτητικό: 10€\n\n\nΠροπώληση εισιτηρίων:  \n-Στο Κινηματοθέατρο ΔΡΗΡΟΣ την ημέρα της παράστασης από τις 20:00 \n\nΛίγα λόγια για την παράσταση \nΜετά από μια βαθιά προσωπική απώλεια\, ο Τάσος και η Όλγα μετακομίζουν σε ένα νέο σπίτι\, αναζητώντας μια καινούργια αρχή. Όμως ο χώρος που θα έπρεπε να τους προσφέρει ηρεμία μετατρέπεται σταδιακά σε πεδίο εντάσεων και αποκαλύψεων. Η προσωρινή παρουσία της μητέρας του Τάσου\, που παλεύει με την άνοια\, καθώς και η εμφάνιση ενός ξαδέλφου του Τάσου και ενός διακοσμητή\, λειτουργούν σαν καταλύτες σε μια ιστορία που ισορροπεί ανάμεσα στο δραματικό και το κωμικό. \n“Μετά από μια βαθιά προσωπική απώλεια\, ο Τάσος και η Όλγα μετακομίζουν σε ένα νέο σπίτι\, αναζητώντας μια καινούργια αρχή. Όμως ο χώρος που θα έπρεπε να τους προσφέρει ηρεμία μετατρέπεται σταδιακά σε πεδίο εντάσεων και αποκαλύψεων. Η προσωρινή παρουσία της μητέρας του Τάσου\, που παλεύει με την άνοια\, καθώς και η εμφάνιση ενός ξαδέλφου του Τάσου και ενός διακοσμητή\, λειτουργούν σαν καταλύτες σε μια ιστορία που ισορροπεί ανάμεσα στο δραματικό και το κωμικό. \n\nΔιανομή (με σειρά εμφάνισης) \nΤΑΣΟΣ – ΜΕΣΙΤΗΣ Αντώνης Νοτάκης \nΟΛΓΑ – ΣΥΖΥΓΟΣ ΤΟΥ ΤΑΣΟΥ Μαρία Σπαθαράκη \nΑΛΙΚΗ – ΜΗΤΕΡΑ ΤΟΥ ΤΑΣΟΥ Άννα Μανιαδάκη \nΜΠΑΜΠΗΣ – ΞΑΔΕΡΦΟΣ ΤΟΥ ΤΑΣΟΥνΚλέαρχος Κορκιδάκης \nΝΤΕΝΗΣ (ΔΙΟΝΥΣΗΣ) – ΕΛΕΙΠΕ ΧΡΟΝΙΑ ΣΤΟ ΕΞΩΤΕΡΙΚΟ Μάριος Φουράκης \n\nΣυντελεστές Παράστασης \nΣκηνοθεσία: Φωτεινή Γωνιωτάκη \nΣκηνικά – Φωτισμοί – Φροντιστήριο: Κωνσταντίνα Τζώρτζη \nΤεχνικός σκηνής – Κατασκευές: Μανώλης Διαλυνάς \nΚοστούμια: Δέσποινα Κερούλη\, Μαριάνθη Μενεγάκη \nΥποβολείο: Μαριάννα Καμπανού \nΜουσική επιμέλεια: Χρήστος Ευαγγελινάκης \nΗχητική κάλυψη: ΦΩΣ & ΗΧΟΣ \nΜακιγιάζ: Δέσποινα Κερούλη\, Έλλη Λιόλιου \nΚομμώσεις: Ρένα Φιορέτζη \nΕπιμέλεια εντύπων: Φωτεινή Γωνιωτάκη\, Θοδωρής Μπεκατώρος \nΣχεδιασμός εντύπων: Φανή Μπατζάκη \n\nΗ Ε.Θ.Ο.Α.Ν. ευχαριστεί θερμά όλους τους υποστηρικτές και χορηγούς που συμβάλλουν στην πραγματοποίηση της παράστασης.
URL:https://www.agiosnikolaos.gr/event/makria-apo-paidia-kinimatotheatro-driros/
LOCATION:Κινηματοθέατρο Δρήρος\, Αναπήρων Πολέμου 2\, Νεάπολη\, Λασιθίου\, 72400\, Greece
CATEGORIES:Θεατρικό
ATTACH;FMTTYPE=image/png:https://www.agiosnikolaos.gr/wp-content/uploads/2026/03/1-10.png
END:VEVENT
BEGIN:VEVENT
DTSTART;TZID=Europe/Athens:20260331T200000
DTEND;TZID=Europe/Athens:20260331T200000
DTSTAMP:20260419T184822
CREATED:20260324T055902Z
LAST-MODIFIED:20260324T055902Z
UID:37787-1774987200-1774987200@www.agiosnikolaos.gr
SUMMARY:«Η Συμφωνία του Αθλητή» - Κινηματοθέατρο Rex
DESCRIPTION: Η Εθνική Λυρική Σκηνή ταξιδεύει στην Κρήτη από τις 24 έως τις 31 Μαρτίου\, με το έργο «Η Συμφωνία του Αθλητή» του Αλέξανδρου Μούζα\, μια πρωτότυπη παράσταση μουσικού θεάτρου που φέρνει σε διάλογο τη μουσική με τον αθλητισμό. \nΗ «Συμφωνία του Αθλητή» σε σκηνοθεσία Άννας-Μόσχα Καμπόσου θα παρουσιαστεί στο κινηματοθέατρο Rex στον Άγιο Νικόλαο την Τρίτη 31 Μαρτίου 2026. \n Ώρα : 20.00 \nΣυνδιοργάνωση Δήμος Αγίου Νικολάου – Συμμετέχει σύνολο από το Μουσικό Σχολείο Λασιθίου. \nΕίσοδος ελεύθερη. \nΘα τηρηθεί σειρά προτεραιότητας. \nΤο πρόγραμμα «Η ΕΛΣ ταξιδεύει στην Ελλάδα» συνεχίζεται με μια νέα πρωτότυπη παραγωγή μουσικού θεάτρου που φέρνει σε δημιουργικό διάλογο τη μουσική με τον αθλητισμό. \nΗ Συμφωνία του Αθλητή του Αλέξανδρου Μούζα θα παρουσιαστεί σε δεκαπέντε πόλεις σε Κρήτη\, Ανατολική Μακεδονία & Θράκη και Ήπειρο\, από τις 24 Μαρτίου έως και τις 15 Μαΐου 2026. Συγκεκριμένα\, η παραγωγή θα ταξιδέψει στην Κρήτη (Χανιά\, Ρέθυμνο\, Ιεράπετρα\, Σητεία\, Άγιο Νικόλαο)\, στην Ανατολική Μακεδονία & Θράκη (Δράμα\, Δοξάτο\, Κομοτηνή\, Καβάλα\, Χρυσούπολη\, Ελευθερούπολη) και στην Ήπειρο (Ιωάννινα\, Κόνιτσα\, Άρτα\, Πρέβεζα). Η περιοδεία στην Ελλάδα υλοποιείται με τη στήριξη της δωρεάς του Ιδρύματος Σταύρος Νιάρχος (ΙΣΝ) για την ενίσχυση της καλλιτεχνικής εξωστρέφειας της Εθνικής Λυρικής Σκηνής. \nΗ παράσταση\, σε μουσική και λιμπρέτο του Αλέξανδρου Μούζα και σκηνοθεσία\, σκηνική και ενδυματολογική επιμέλεια της Άννας-Μόσχας Καμπόσου\, στοχεύει στην ανάδειξη της σημασίας της σωματικής άσκησης και της ψυχικής ισορροπίας\, της συνεργασίας και του θεμιτού ανταγωνισμού\, της αυτοπειθαρχίας και της στοχοπροσήλωσης\, αλλά και της αποδοχής της διαφορετικότητας. Μέσα από τη μουσική πράξη\, τα στοιχεία αυτά δεν παρουσιάζονται ως θεωρητικά διδάγματα\, αλλά ως βιωμένη εμπειρία που αναπτύσσεται επί σκηνής στο εδώ και τώρα. \nΤο έργο Η Συμφωνία του Αθλητή αποτελεί μια αλληγορική μουσική διαδρομή\, από την απόλυτη αδράνεια προς την απελευθερωτική δύναμη της άσκησης. Τρεις φίλοι συναντιούνται σε έναν οικείο χώρο γεμάτο παιχνίδια και αντικείμενα που μένουν σχεδόν πάντα αχρησιμοποίητα. Βυθισμένοι στη ρουτίνα και τη νωχελικότητα της καθημερινότητας\, παραδέχονται με χιούμορ\, αλλά και ειλικρίνεια\, τη βαθιά τους πλήξη. Τίποτα δεν τους κινητοποιεί\, κανένα σχέδιο δεν μοιάζει αρκετά ισχυρό για να τους σηκώσει από την αδράνεια. Μέσα από μουσικά επεισόδια\, εύστοχους διαλόγους και μια διαρκώς μεταβαλλόμενη σκηνική δράση\, η ιδέα της κίνησης και της άσκησης εμφανίζεται αρχικά σαν παιχνίδι\, σχεδόν σαν αστείο\, σιγά σιγά όμως η σκέψη και ο οραματισμός του εαυτού ως «αθλητή» γίνεται σύμβολο προσπάθειας\, επιμονής και αλλαγής. Καθώς οι τρεις ήρωες δοκιμάζουν να ξεπεράσουν τη συνήθεια της ακινησίας\, ανακαλύπτουν τη χαρά της δράσης\, τη δύναμη της συνεργασίας και τη σημασία του να τολμά κανείς να κάνει το πρώτο βήμα. Έτσι\, η προσωπική τους αφύπνιση μετατρέπεται σε μια μικρή\, αισιόδοξη συμφωνία για τη ζωή. \nΗ μουσική του έργου\, αντανακλώντας την ένταση και την πολυμορφία της κίνησης επί σκηνής\, πλέκει οργανικά τα λυρικά μέρη και τα ορχηστρικά αποσπάσματα με τον σύγχρονο ρυθμό των χιπ χοπ τραγουδιών και την ενέργεια της ηλεκτρονικής χορευτικής μουσικής. Η εμπειρία εμπλουτίζεται από τη χρήση ηχητικού σχεδιασμού\, όπου ηχογραφημένοι ήχοι της καθημερινότητας αλληλεπιδρούν με φυσικούς ήχους που παράγονται επί σκηνής\, δημιουργώντας έναν ζωντανό\, αντιστικτικό διάλογο ανάμεσα στον ρεαλισμό και τη μουσική φαντασία. \nΣτην παραγωγή\, δίπλα στους μονωδούς Έφη Παπαδοπούλου (υψίφωνος)\, Πάρι Παρασκευάδη (τενόρος)\, Χρήστο Ραμμόπουλο (βαρύτονος) και το μικρό μουσικό σύνολο της ΕΛΣ\, συμμετέχουν μικτές παιδικές χορωδίες και μουσικά σύνολα μαθητών από Μουσικά Σχολεία\, Δημοτικά Ωδεία και μουσικές σχολές\, καθώς και ομάδες χιπ χοπ\, αθλητικές και καλλιτεχνικές ομάδες των πόλεων που φιλοξενούν την παράσταση. Με αυτόν τον τρόπο\, κάθε παρουσίαση αποκτά τον δικό της ξεχωριστό χαρακτήρα\, προσαρμοσμένη στα χαρακτηριστικά και τη δυναμική κάθε ομάδας\, ενισχύοντας με αυτόν τον τρόπο τη δημιουργικότητα της εκάστοτε τοπικής κοινότητας. \nΌλες οι παραστάσεις που πραγματοποιούνται στο πλαίσιο του προγράμματος «Η ΕΛΣ ταξιδεύει στην Ελλάδα» είναι με είσοδο ελεύθερη για το κοινό.
URL:https://www.agiosnikolaos.gr/event/i-symfonia-tou-athliti-kinimatotheatro-rex/
LOCATION:Κινηματοθέατρο REX\, Λασθένους και Σφακιανάκη\, Αγιος Νικόλαος\, Λασιθίου\, 72150\, Ελλάδα
CATEGORIES:Θεατρικό
ATTACH;FMTTYPE=image/jpeg:https://www.agiosnikolaos.gr/wp-content/uploads/2026/03/1-15.jpg
END:VEVENT
END:VCALENDAR