BEGIN:VCALENDAR
VERSION:2.0
PRODID:-//Δήμος Αγίου Νικολάου - ECPv6.15.18//NONSGML v1.0//EN
CALSCALE:GREGORIAN
METHOD:PUBLISH
X-WR-CALNAME:Δήμος Αγίου Νικολάου
X-ORIGINAL-URL:https://www.agiosnikolaos.gr
X-WR-CALDESC:Events for Δήμος Αγίου Νικολάου
REFRESH-INTERVAL;VALUE=DURATION:PT1H
X-Robots-Tag:noindex
X-PUBLISHED-TTL:PT1H
BEGIN:VTIMEZONE
TZID:Europe/Athens
BEGIN:DAYLIGHT
TZOFFSETFROM:+0200
TZOFFSETTO:+0300
TZNAME:EEST
DTSTART:20250330T010000
END:DAYLIGHT
BEGIN:STANDARD
TZOFFSETFROM:+0300
TZOFFSETTO:+0200
TZNAME:EET
DTSTART:20251026T010000
END:STANDARD
BEGIN:DAYLIGHT
TZOFFSETFROM:+0200
TZOFFSETTO:+0300
TZNAME:EEST
DTSTART:20260329T010000
END:DAYLIGHT
BEGIN:STANDARD
TZOFFSETFROM:+0300
TZOFFSETTO:+0200
TZNAME:EET
DTSTART:20261025T010000
END:STANDARD
BEGIN:DAYLIGHT
TZOFFSETFROM:+0200
TZOFFSETTO:+0300
TZNAME:EEST
DTSTART:20270328T010000
END:DAYLIGHT
BEGIN:STANDARD
TZOFFSETFROM:+0300
TZOFFSETTO:+0200
TZNAME:EET
DTSTART:20271031T010000
END:STANDARD
END:VTIMEZONE
BEGIN:VEVENT
DTSTART;TZID=Europe/Athens:20260424T203000
DTEND;TZID=Europe/Athens:20260426T203000
DTSTAMP:20260423T130557
CREATED:20260422T052044Z
LAST-MODIFIED:20260422T052044Z
UID:38455-1777062600-1777235400@www.agiosnikolaos.gr
SUMMARY:Solo Mio - Κινηματοθέατρο «ΔΡΗΡΟΣ»
DESCRIPTION:Ο Ματ αποταμίευε χρήματα για χρόνια για να πραγματοποιήσει τον γάμο των ονείρων της αγαπημένης του στην Ιταλία\, και να σχεδιάσει ένα πολυτελές ταξίδι του μέλιτος. Όταν η αρραβωνιαστικιά του δεν εμφανίζεται στην εκκλησία\, ο Ματ αναγκάζεται να πάει μόνος του στο ταξίδι του μέλιτος\, κάτι που τον φέρνει σε επαφή με την όμορφη κουλτούρα της Ιταλίας και ανανεώνει το πάθος του για τη ζωή. Στην πορεία\, γνωρίζει την Τζία\, μια Ιταλίδα που τον βοηθά να ξαναβρεί την πίστη του στην πιθανότητα της αγάπης και της αληθινής ευτυχίας. \nΚατάλληλο για άνω των 12 ετών \nΓενική είσοδος : 5€ \nΏρα : 20:30 \nΚλείστε εύκολα #online τα εισιτήρια σας εδώ: https://www.ticketbox.gr/ekdilosi/solo-mio-driros-2/
URL:https://www.agiosnikolaos.gr/event/solo-mio-kinimatotheatro-driros/
LOCATION:Κινηματοθέατρο Δρήρος\, Αναπήρων Πολέμου 2\, Νεάπολη\, Λασιθίου\, 72400\, Greece
CATEGORIES:Κινηματογραφικό
ATTACH;FMTTYPE=image/jpeg:https://www.agiosnikolaos.gr/wp-content/uploads/2026/04/673322234_945378501407568_6319497650033277656_n.jpg
ORGANIZER;CN="%CE%94%CE%AE%CE%BC%CE%BF%CF%82 %CE%91%CE%B3%CE%AF%CE%BF%CF%85 %CE%9D%CE%B9%CE%BA%CE%BF%CE%BB%CE%AC%CE%BF%CF%85":MAILTO:info@agiosnikolaos.gr
END:VEVENT
BEGIN:VEVENT
DTSTART;TZID=Europe/Athens:20260425T100000
DTEND;TZID=Europe/Athens:20260426T100000
DTSTAMP:20260423T130557
CREATED:20260421T050325Z
LAST-MODIFIED:20260421T050326Z
UID:38410-1777111200-1777197600@www.agiosnikolaos.gr
SUMMARY:1ο Adventure Fest
DESCRIPTION:Μια διοργάνωση που στοχεύει να φέρει κοντά σε περιοχές ιδιαίτερου φυσικού κάλλους δημότες και ξένους επισκέπτες \nΜε στόχο την ανάδειξη περιοχών ιδιαίτερου φυσικού κάλλους ο Δήμος Αγίου Νικολάου διοργανώνει το διήμερο 25 – 26 Απριλίου 2026 το «1ο Adventure Fest» μια αθλητική διοργάνωση που φιλοδοξεί να γίνει θεσμός – μια ευκαιρία για ντόπιους και ξένους επισκέπτες να έρθουν σε επαφή με τη φύση και να γνωρίσουν περιοχές ιδιαίτερου φυσικού κάλλους όπως το αναρριχητικό πεδίο της Πέζας στο Καλό Χωριό\, το Φραρώ στην Νεάπολη και τη νησίδα Κολοκύθα που βρίσκεται απέναντι από την Σπιναλόγκα. \nΤο πρόγραμμα των αθλητικών δράσεων του διημέρου παρουσιάστηκε σε συνέντευξη τύπου που δόθηκε σήμερα (20/4) στο παλιό δημαρχείο παρουσία εκπροσώπων των συλλόγων που στηρίζουν την διοργάνωση αυτή. \nΟ αντιδήμαρχος Αθλητισμού Στέργιος Ατσαλάκης αναφερόμενος στην διοργάνωση ενημέρωσε ότι ο Δήμος Αγίου Νικολάου σε συνεργασία με την ΔΑΕΑΝ και την συνδρομή των αθλητικών συλλόγων: Ποδηλατικός Σύλλογος Νεάπολης «Δρήρος»\, Αθλητικός Ορειβατικός Σύλλογος «Τάλως»\, Ελληνικός Ορειβατικός Σύλλογος Λασιθίου (ΕΟΣ)\, με στοχευμένες δράσεις καλεί δημότες και επισκέπτες να έρθουν κοντά στην φύση και να συμμετέχουν στις δραστηριότητες που έχουν προγραμματιστεί. Όπως ο ίδιος ανέφερε ο Δήμος με τις αθλητικές αυτές δράσεις στοχεύει στην ανάδειξη επιμέρους χαρακτηριστικών της ευρύτερης περιοχής\, ενώ υπογράμμισε ότι η συμμετοχή και άλλων συλλόγων θα δώσει την δυνατότητα η συγκεκριμένη διοργάνωση να αποτελέσει θεσμό για τα επόμενα χρόνια. \nΟ πρόεδρος της ΔΑΕΑΝ Γιώργος Αστρουλάκης σημείωσε ότι ο δήμος με την διοργάνωση αυτή επιθυμεί να προβάλει όλες τις περιοχές της ενδοχώρας. Ο ίδιος ευχαρίστησε τους αθλητικούς συλλόγους για την συνδρομή τους υπογραμμίζοντας ότι : «ανάβουμε την σπίθα ώστε να προστεθούν και άλλες προτάσεις στο μέλλον και ο κόσμος να αγκαλιάσει τις διοργανώσεις αυτές. \nΟ Κώστας Βλαστός πρόεδρος Ε.Ο.Σ Λασιθίου χαιρετίζοντας την πρωτοβουλία του δήμου και της ΔΑΕΑΝ για το «1ο Adventure Fest» είπε ότι  το Μεραμπέλλο είναι ένας τόπος προικισμένος από την φύση έχει μεγάλο μήκος ακτογραμμών και παραλίες με κρυστάλλινα νερά\, υπέροχα βουνά φαράγγια δάση που συνθέτουν ένα ιδιαιτέρου κάλλους τοπίο. \nΔεχτήκαμε με χαρά – ανέφερε – την πρόταση του δήμου που αποτελεί μια ακόμα ευκαιρία να αναδειχτούν οι φυσικές ομορφιές αυτού του τόπου και να δοθεί το ερέθισμα σε όσους επιθυμούν να βγουν στη φύση το επόμενο διήμερο και να συμμετάσχουν σε κάποιο από τα τρία αθλήματα που έχουν προγραμματιστεί. \nΟ Λασιθίου προγραμματίζει (26/4) αγώνα τρεξίματος στη νήσο Κολοκύθα. \nΟ αγώνας θα ξεκινήσει στις 10:00το πρωί της Κυριακής\, η εκκίνηση θα γίνει από τους Μύλους (Κανάλι Ελούντας). Η διαδρομή θα είναι κυκλική στο νησί της Κολοκύθας και θα έχει μήκος περίπου 7\, 5 χιλ. \nΓια τους μικρούς δημότες προγραμματίζεται ένας ακόμα αγώνας 1 χιλ. \nΟ  Κώστας Βλαστός ευχήθηκε οι αγώνες να έχουν την αυτή να έχει την προσδοκώμενη επιτυχία να έχει διάρκεια και να καθιερωθούν στην συνείδηση του κόσμου ως μια υψηλή διοργάνωση. \nΟ πρόεδρος του Αθλητικού Ορειβατικού Συλλόγου «Τάλως» Δημήτρης Κουλουγουσίδης αναφέρθηκε στους αγώνες αναρρίχησης που θα πραγματοποιηθούν στην Πέζα Καλού Χωριού (πιστοποιημένο αναρριχητικό πεδίο) . Οι αγώνες ξεκινούν στις 10:00 π.μ και θα διαρκέσουν έως τις 14:00. Στους συμμετέχοντες θα δοθεί εξοπλισμός από τον σύλλογο. \nΤέλος ο Νίκος Φαιτός πρόεδρος Ποδηλατικού ομίλου «Δρήρος»  ενημέρωσε ότι οι ποδηλατικές διαδρομές στην περιοχή του Φραρώ (25/4) αφορούν παιδιά ηλικίας 6-7 ετών (μικρή διαδρομή) και 12-17 ετών (μεγαλύτερη διαδρομή) \nΣτο τέλος των αγώνων αυτών θα υπάρχει μια ανοιχτή διαδρομή που θα μπορεί όποιος θέλει να συμμετέχει ελεύθερα με το ποδήλατο του\, ενώ απαραίτητη είναι η χρήση κράνους. \nΝα σημειώσουμε ότι το μεσημέρι της Κυριακής 26/4 στην κεντρική πλατεία της Νεάπολης θα πραγματοποιηθούν οι απονομές στους νικητές των αγώνων ενώ η εκδήλωση που θα πραγματοποιηθεί είναι ανοικτή για όλους τους συμμετέχοντας.
URL:https://www.agiosnikolaos.gr/event/1o-adventure-fest/
LOCATION:Λασιθίου
CATEGORIES:Αθλητικές Δραστηριότητες
ATTACH;FMTTYPE=image/jpeg:https://www.agiosnikolaos.gr/wp-content/uploads/2026/04/20260420_141926.jpg
ORGANIZER;CN="%CE%94%CE%AE%CE%BC%CE%BF%CF%82 %CE%91%CE%B3%CE%AF%CE%BF%CF%85 %CE%9D%CE%B9%CE%BA%CE%BF%CE%BB%CE%AC%CE%BF%CF%85":MAILTO:info@agiosnikolaos.gr
END:VEVENT
END:VCALENDAR